BEGIN:VCALENDAR
VERSION:2.0
PRODID:-//Redestolz - ECPv6.15.17.1//NONSGML v1.0//EN
CALSCALE:GREGORIAN
METHOD:PUBLISH
X-ORIGINAL-URL:https://redestolz.de
X-WR-CALDESC:Veranstaltungen für Redestolz
REFRESH-INTERVAL;VALUE=DURATION:PT1H
X-Robots-Tag:noindex
X-PUBLISHED-TTL:PT1H
BEGIN:VTIMEZONE
TZID:Europe/Berlin
BEGIN:DAYLIGHT
TZOFFSETFROM:+0100
TZOFFSETTO:+0200
TZNAME:CEST
DTSTART:20220327T010000
END:DAYLIGHT
BEGIN:STANDARD
TZOFFSETFROM:+0200
TZOFFSETTO:+0100
TZNAME:CET
DTSTART:20221030T010000
END:STANDARD
BEGIN:DAYLIGHT
TZOFFSETFROM:+0100
TZOFFSETTO:+0200
TZNAME:CEST
DTSTART:20230326T010000
END:DAYLIGHT
BEGIN:STANDARD
TZOFFSETFROM:+0200
TZOFFSETTO:+0100
TZNAME:CET
DTSTART:20231029T010000
END:STANDARD
BEGIN:DAYLIGHT
TZOFFSETFROM:+0100
TZOFFSETTO:+0200
TZNAME:CEST
DTSTART:20240331T010000
END:DAYLIGHT
BEGIN:STANDARD
TZOFFSETFROM:+0200
TZOFFSETTO:+0100
TZNAME:CET
DTSTART:20241027T010000
END:STANDARD
END:VTIMEZONE
BEGIN:VEVENT
DTSTART;TZID=Europe/Berlin:20231115T170000
DTEND;TZID=Europe/Berlin:20231115T183000
DTSTAMP:20260421T112845
CREATED:20230706T083812Z
LAST-MODIFIED:20230706T084525Z
UID:1235-1700067600-1700073000@redestolz.de
SUMMARY:SmartStarter Spezial Stegreifreden 15.11.23
DESCRIPTION:Spontan reden kann jeden treffen. Von jetzt auf gleich eine Präsentation oder Rede halten ohne Vorbreitung ist eine Herausforderung. Ohne Vorbereitung? Nicht ganz. Mit den richtigen Werkzeugen wird jede Stegreifrede zum Kinderspiel. Nach kurzer Einweisung geht es in die Praxis. Der Workshop findet ab 4 Teilnehmern statt. Teilnahmegebühr nur 18€
URL:https://redestolz.de/workshop/smartstarter-spezial-stegreifreden-15-11-23/
LOCATION:Berenberg-Gossler-Haus\, Stadtteilkulturzentrum und Bürgerhaus Niendorf\, Niendorfer Kirchenweg 17\, Hamburg\, Hamburg\, 22459\, Deutschland
CATEGORIES:Workshops
END:VEVENT
BEGIN:VEVENT
DTSTART;TZID=Europe/Berlin:20231115T193000
DTEND;TZID=Europe/Berlin:20231115T223000
DTSTAMP:20260421T112845
CREATED:20230706T080948Z
LAST-MODIFIED:20230813T150438Z
UID:1215-1700076600-1700087400@redestolz.de
SUMMARY:SmartStarter 15.11.23
DESCRIPTION:Lernen Sie die Faszination gekonnter Reden kennen und gewinnen Sie einen ersten Einblick\, wie meine Workshops Sie persönlich weiterbringen und Ihnen Sicherheit geben\, dass Sie es schaffen. Weil Sie es können. Jede Wette!
URL:https://redestolz.de/workshop/smartstarter-15-11-23/
LOCATION:Berenberg-Gossler-Haus\, Stadtteilkulturzentrum und Bürgerhaus Niendorf\, Niendorfer Kirchenweg 17\, Hamburg\, Hamburg\, 22459\, Deutschland
CATEGORIES:Workshops
END:VEVENT
BEGIN:VEVENT
DTSTART;TZID=Europe/Berlin:20231118T100000
DTEND;TZID=Europe/Berlin:20231118T150000
DTSTAMP:20260421T112845
CREATED:20230707T171953Z
LAST-MODIFIED:20230707T171953Z
UID:1243-1700301600-1700319600@redestolz.de
SUMMARY:PowerPack-Weekend 18.11.23 (1/2)
DESCRIPTION:Das kennen Sie: Der Stress in unserem Alltag lauert gefühlt überall nur darauf\, über uns herzufallen. Am liebsten immer dann\, wenn man ihn am wenigstens gebrauchen kann und sich ein Termin ungefragt und vorlaut in Ihr Leben drängelt.  Noch bleibt Ihnen ein bisschen Zeit. Noch. Doch die Uhr läuft … Jetzt heißt es\, ganz schnell redefit zu werden\, um redestolz zu sein: Ich bin für Sie da!
URL:https://redestolz.de/workshop/powerpack-weekend-18-11-23-1-2/
LOCATION:Berenberg-Gossler-Haus\, Stadtteilkulturzentrum und Bürgerhaus Niendorf\, Niendorfer Kirchenweg 17\, Hamburg\, Hamburg\, 22459\, Deutschland
CATEGORIES:Workshops
END:VEVENT
BEGIN:VEVENT
DTSTART;TZID=Europe/Berlin:20231119T100000
DTEND;TZID=Europe/Berlin:20231119T150000
DTSTAMP:20260421T112845
CREATED:20230707T172125Z
LAST-MODIFIED:20230707T172125Z
UID:1247-1700388000-1700406000@redestolz.de
SUMMARY:PowerPack-Weekend 19.11.23 (2/2)
DESCRIPTION:Das kennen Sie: Der Stress in unserem Alltag lauert gefühlt überall nur darauf\, über uns herzufallen. Am liebsten immer dann\, wenn man ihn am wenigstens gebrauchen kann und sich ein Termin ungefragt und vorlaut in Ihr Leben drängelt.  Noch bleibt Ihnen ein bisschen Zeit. Noch. Doch die Uhr läuft … Jetzt heißt es\, ganz schnell redefit zu werden\, um redestolz zu sein: Ich bin für Sie da!
URL:https://redestolz.de/workshop/powerpack-weekend-19-11-23-2-2/
LOCATION:Berenberg-Gossler-Haus\, Stadtteilkulturzentrum und Bürgerhaus Niendorf\, Niendorfer Kirchenweg 17\, Hamburg\, Hamburg\, 22459\, Deutschland
CATEGORIES:Workshops
END:VEVENT
END:VCALENDAR