BEGIN:VCALENDAR
VERSION:2.0
PRODID:-//Redestolz - ECPv6.15.17.1//NONSGML v1.0//EN
CALSCALE:GREGORIAN
METHOD:PUBLISH
X-ORIGINAL-URL:https://redestolz.de
X-WR-CALDESC:Veranstaltungen für Redestolz
REFRESH-INTERVAL;VALUE=DURATION:PT1H
X-Robots-Tag:noindex
X-PUBLISHED-TTL:PT1H
BEGIN:VTIMEZONE
TZID:Europe/Berlin
BEGIN:DAYLIGHT
TZOFFSETFROM:+0100
TZOFFSETTO:+0200
TZNAME:CEST
DTSTART:20220327T010000
END:DAYLIGHT
BEGIN:STANDARD
TZOFFSETFROM:+0200
TZOFFSETTO:+0100
TZNAME:CET
DTSTART:20221030T010000
END:STANDARD
BEGIN:DAYLIGHT
TZOFFSETFROM:+0100
TZOFFSETTO:+0200
TZNAME:CEST
DTSTART:20230326T010000
END:DAYLIGHT
BEGIN:STANDARD
TZOFFSETFROM:+0200
TZOFFSETTO:+0100
TZNAME:CET
DTSTART:20231029T010000
END:STANDARD
BEGIN:DAYLIGHT
TZOFFSETFROM:+0100
TZOFFSETTO:+0200
TZNAME:CEST
DTSTART:20240331T010000
END:DAYLIGHT
BEGIN:STANDARD
TZOFFSETFROM:+0200
TZOFFSETTO:+0100
TZNAME:CET
DTSTART:20241027T010000
END:STANDARD
END:VTIMEZONE
BEGIN:VEVENT
DTSTART;TZID=Europe/Berlin:20231011T170000
DTEND;TZID=Europe/Berlin:20231011T183000
DTSTAMP:20260423T115702
CREATED:20230706T083639Z
LAST-MODIFIED:20230706T084435Z
UID:1233-1697043600-1697049000@redestolz.de
SUMMARY:SmartStarter Spezial Stegreifreden 11.10.23
DESCRIPTION:Spontan reden kann jeden treffen. Von jetzt auf gleich eine Präsentation oder Rede halten ohne Vorbreitung ist eine Herausforderung. Ohne Vorbereitung? Nicht ganz. Mit den richtigen Werkzeugen wird jede Stegreifrede zum Kinderspiel. Nach kurzer Einweisung geht es in die Praxis. Der Workshop findet ab 4 Teilnehmern statt. Teilnahmegebühr nur 18€
URL:https://redestolz.de/workshop/smartstarter-spezial-stegreifreden-11-10-23/
LOCATION:Berenberg-Gossler-Haus\, Stadtteilkulturzentrum und Bürgerhaus Niendorf\, Niendorfer Kirchenweg 17\, Hamburg\, Hamburg\, 22459\, Deutschland
CATEGORIES:Workshops
END:VEVENT
BEGIN:VEVENT
DTSTART;TZID=Europe/Berlin:20231013T193000
DTEND;TZID=Europe/Berlin:20231013T213000
DTSTAMP:20260423T115702
CREATED:20230707T211327Z
LAST-MODIFIED:20230707T211327Z
UID:1268-1697225400-1697232600@redestolz.de
SUMMARY:MASTERCLASS Bronze (4. Termin) 13.10.23
DESCRIPTION:Werden Sie zum Hinhör-Magneten und machen Sie Ihren Bühnenauftritt so wie Sie ihn selbst gern erleben würden: faszinierend. Mit dem Master-Class-Kurs BRONZE legen Sie die Grundlage für Ihre besten Reden.
URL:https://redestolz.de/workshop/masterclass-bronze-4-termin-13-10-23/
LOCATION:Berenberg-Gossler-Haus\, Stadtteilkulturzentrum und Bürgerhaus Niendorf\, Niendorfer Kirchenweg 17\, Hamburg\, Hamburg\, 22459\, Deutschland
CATEGORIES:Workshops
END:VEVENT
BEGIN:VEVENT
DTSTART;TZID=Europe/Berlin:20231018T193000
DTEND;TZID=Europe/Berlin:20231018T223000
DTSTAMP:20260423T115702
CREATED:20230706T080345Z
LAST-MODIFIED:20230706T080345Z
UID:1216-1697657400-1697668200@redestolz.de
SUMMARY:SmartStarter 18.10.23
DESCRIPTION:Lernen Sie die Faszination gekonnter Reden kennen und gewinnen Sie einen ersten Einblick\, wie meine Workshops Sie persönlich weiterbringen und Ihnen Sicherheit geben\, dass Sie es schaffen. Weil Sie es können. Jede Wette!
URL:https://redestolz.de/workshop/smartstarter-18-10-23/
LOCATION:Berenberg-Gossler-Haus\, Stadtteilkulturzentrum und Bürgerhaus Niendorf\, Niendorfer Kirchenweg 17\, Hamburg\, Hamburg\, 22459\, Deutschland
CATEGORIES:Workshops
END:VEVENT
END:VCALENDAR