BEGIN:VCALENDAR
VERSION:2.0
PRODID:-//Redestolz - ECPv6.15.17.1//NONSGML v1.0//EN
CALSCALE:GREGORIAN
METHOD:PUBLISH
X-WR-CALNAME:Redestolz
X-ORIGINAL-URL:https://redestolz.de
X-WR-CALDESC:Veranstaltungen für Redestolz
REFRESH-INTERVAL;VALUE=DURATION:PT1H
X-Robots-Tag:noindex
X-PUBLISHED-TTL:PT1H
BEGIN:VTIMEZONE
TZID:Europe/Berlin
BEGIN:DAYLIGHT
TZOFFSETFROM:+0100
TZOFFSETTO:+0200
TZNAME:CEST
DTSTART:20220327T010000
END:DAYLIGHT
BEGIN:STANDARD
TZOFFSETFROM:+0200
TZOFFSETTO:+0100
TZNAME:CET
DTSTART:20221030T010000
END:STANDARD
BEGIN:DAYLIGHT
TZOFFSETFROM:+0100
TZOFFSETTO:+0200
TZNAME:CEST
DTSTART:20230326T010000
END:DAYLIGHT
BEGIN:STANDARD
TZOFFSETFROM:+0200
TZOFFSETTO:+0100
TZNAME:CET
DTSTART:20231029T010000
END:STANDARD
BEGIN:DAYLIGHT
TZOFFSETFROM:+0100
TZOFFSETTO:+0200
TZNAME:CEST
DTSTART:20240331T010000
END:DAYLIGHT
BEGIN:STANDARD
TZOFFSETFROM:+0200
TZOFFSETTO:+0100
TZNAME:CET
DTSTART:20241027T010000
END:STANDARD
END:VTIMEZONE
BEGIN:VEVENT
DTSTART;TZID=Europe/Berlin:20230111T193000
DTEND;TZID=Europe/Berlin:20230111T223000
DTSTAMP:20260423T194358
CREATED:20221019T102050Z
LAST-MODIFIED:20221019T102050Z
UID:420-1673465400-1673476200@redestolz.de
SUMMARY:SmartStarter 11.01.23
DESCRIPTION:Lernen Sie die Faszination gekonnter Reden kennen und gewinnen Sie einen ersten Einblick\, wie meine Workshops Sie persönlich weiterbringen und Ihnen Sicherheit geben\, dass Sie es schaffen. Weil Sie es können. Jede Wette!
URL:https://redestolz.de/workshop/smartstarter-11-01-23/
LOCATION:Berenberg-Gossler-Haus\, Stadtteilkulturzentrum und Bürgerhaus Niendorf\, Niendorfer Kirchenweg 17\, Hamburg\, Hamburg\, 22459\, Deutschland
CATEGORIES:Workshops
END:VEVENT
BEGIN:VEVENT
DTSTART;TZID=Europe/Berlin:20230118T193000
DTEND;TZID=Europe/Berlin:20230118T213000
DTSTAMP:20260423T194358
CREATED:20221117T164837Z
LAST-MODIFIED:20221117T164837Z
UID:590-1674070200-1674077400@redestolz.de
SUMMARY:MASTERCLASS Bronze (1. Termin) 18.01.23 (1/4)
DESCRIPTION:Werden Sie zum Hinhör-Magneten und machen Sie Ihren Bühnenauftritt so wie Sie ihn selbst gern erleben würden: faszinierend. Mit dem Master-Class-Kurs BRONZE legen Sie die Grundlage für Ihre besten Reden.
URL:https://redestolz.de/workshop/masterclass-bronze-1-termin-18-01-23-1-4/
LOCATION:Berenberg-Gossler-Haus\, Stadtteilkulturzentrum und Bürgerhaus Niendorf\, Niendorfer Kirchenweg 17\, Hamburg\, Hamburg\, 22459\, Deutschland
CATEGORIES:Workshops
END:VEVENT
BEGIN:VEVENT
DTSTART;TZID=Europe/Berlin:20230121T100000
DTEND;TZID=Europe/Berlin:20230121T150000
DTSTAMP:20260423T194358
CREATED:20221117T170722Z
LAST-MODIFIED:20221117T170722Z
UID:566-1674295200-1674313200@redestolz.de
SUMMARY:PowerPack-Weekend 21.02.23 (1/2)
DESCRIPTION:Das kennen Sie: Der Stress in unserem Alltag lauert gefühlt überall nur darauf\, über uns herzufallen. Am liebsten immer dann\, wenn man ihn am wenigstens gebrauchen kann und sich ein Termin ungefragt und vorlaut in Ihr Leben drängelt.  Noch bleibt Ihnen ein bisschen Zeit. Noch. Doch die Uhr läuft … Jetzt heißt es\, ganz schnell redefit zu werden\, um redestolz zu sein: Ich bin für Sie da!
URL:https://redestolz.de/workshop/powerpack-weekend-21-02-23-1-2/
LOCATION:Berenberg-Gossler-Haus\, Stadtteilkulturzentrum und Bürgerhaus Niendorf\, Niendorfer Kirchenweg 17\, Hamburg\, Hamburg\, 22459\, Deutschland
CATEGORIES:Workshops
END:VEVENT
BEGIN:VEVENT
DTSTART;TZID=Europe/Berlin:20230122T100000
DTEND;TZID=Europe/Berlin:20230122T150000
DTSTAMP:20260423T194358
CREATED:20221117T170856Z
LAST-MODIFIED:20221117T170856Z
UID:601-1674381600-1674399600@redestolz.de
SUMMARY:PowerPack-Weekend 22.02.23 (2/2)
DESCRIPTION:Das kennen Sie: Der Stress in unserem Alltag lauert gefühlt überall nur darauf\, über uns herzufallen. Am liebsten immer dann\, wenn man ihn am wenigstens gebrauchen kann und sich ein Termin ungefragt und vorlaut in Ihr Leben drängelt.  Noch bleibt Ihnen ein bisschen Zeit. Noch. Doch die Uhr läuft … Jetzt heißt es\, ganz schnell redefit zu werden\, um redestolz zu sein: Ich bin für Sie da!
URL:https://redestolz.de/workshop/powerpack-weekend-22-02-23-2-2/
LOCATION:Berenberg-Gossler-Haus\, Stadtteilkulturzentrum und Bürgerhaus Niendorf\, Niendorfer Kirchenweg 17\, Hamburg\, Hamburg\, 22459\, Deutschland
CATEGORIES:Workshops
END:VEVENT
BEGIN:VEVENT
DTSTART;TZID=Europe/Berlin:20230125T193000
DTEND;TZID=Europe/Berlin:20230125T213000
DTSTAMP:20260423T194358
CREATED:20221117T165020Z
LAST-MODIFIED:20221117T165020Z
UID:591-1674675000-1674682200@redestolz.de
SUMMARY:MASTERCLASS Bronze (2. Termin) 25.01.23
DESCRIPTION:Werden Sie zum Hinhör-Magneten und machen Sie Ihren Bühnenauftritt so wie Sie ihn selbst gern erleben würden: faszinierend. Mit dem Master-Class-Kurs BRONZE legen Sie die Grundlage für Ihre besten Reden.
URL:https://redestolz.de/workshop/masterclass-bronze-2-termin-25-01-23/
LOCATION:Berenberg-Gossler-Haus\, Stadtteilkulturzentrum und Bürgerhaus Niendorf\, Niendorfer Kirchenweg 17\, Hamburg\, Hamburg\, 22459\, Deutschland
CATEGORIES:Workshops
END:VEVENT
END:VCALENDAR