BEGIN:VCALENDAR
VERSION:2.0
PRODID:-//Redestolz - ECPv6.15.17.1//NONSGML v1.0//EN
CALSCALE:GREGORIAN
METHOD:PUBLISH
X-WR-CALNAME:Redestolz
X-ORIGINAL-URL:https://redestolz.de
X-WR-CALDESC:Veranstaltungen für Redestolz
REFRESH-INTERVAL;VALUE=DURATION:PT1H
X-Robots-Tag:noindex
X-PUBLISHED-TTL:PT1H
BEGIN:VTIMEZONE
TZID:Europe/Berlin
BEGIN:DAYLIGHT
TZOFFSETFROM:+0100
TZOFFSETTO:+0200
TZNAME:CEST
DTSTART:20210328T010000
END:DAYLIGHT
BEGIN:STANDARD
TZOFFSETFROM:+0200
TZOFFSETTO:+0100
TZNAME:CET
DTSTART:20211031T010000
END:STANDARD
BEGIN:DAYLIGHT
TZOFFSETFROM:+0100
TZOFFSETTO:+0200
TZNAME:CEST
DTSTART:20220327T010000
END:DAYLIGHT
BEGIN:STANDARD
TZOFFSETFROM:+0200
TZOFFSETTO:+0100
TZNAME:CET
DTSTART:20221030T010000
END:STANDARD
BEGIN:DAYLIGHT
TZOFFSETFROM:+0100
TZOFFSETTO:+0200
TZNAME:CEST
DTSTART:20230326T010000
END:DAYLIGHT
BEGIN:STANDARD
TZOFFSETFROM:+0200
TZOFFSETTO:+0100
TZNAME:CET
DTSTART:20231029T010000
END:STANDARD
END:VTIMEZONE
BEGIN:VEVENT
DTSTART;TZID=Europe/Berlin:20221207T193000
DTEND;TZID=Europe/Berlin:20221207T223000
DTSTAMP:20260423T210530
CREATED:20220501T145158Z
LAST-MODIFIED:20220501T152736Z
UID:396-1670441400-1670452200@redestolz.de
SUMMARY:SmartStarter 07.12.22
DESCRIPTION:Lernen Sie die Faszination gekonnter Reden kennen und gewinnen Sie einen ersten Einblick\, wie meine Workshops Sie persönlich weiterbringen und Ihnen Sicherheit geben\, dass Sie es schaffen. Weil Sie es können. Jede Wette!
URL:https://redestolz.de/workshop/smartstarter-07-12-22/
LOCATION:Berenberg-Gossler-Haus\, Stadtteilkulturzentrum und Bürgerhaus Niendorf\, Niendorfer Kirchenweg 17\, Hamburg\, Hamburg\, 22459\, Deutschland
CATEGORIES:Workshops
END:VEVENT
BEGIN:VEVENT
DTSTART;TZID=Europe/Berlin:20221214T193000
DTEND;TZID=Europe/Berlin:20221214T213000
DTSTAMP:20260423T210530
CREATED:20220130T082606Z
LAST-MODIFIED:20221019T101951Z
UID:272-1671046200-1671053400@redestolz.de
SUMMARY:MASTERCLASS Bronze (4. Termin) 14.12.22
DESCRIPTION:Für zukünftige gute Redner! \nWerden Sie zum Hinhör-Magneten und machen Sie Ihren \nBühnenauftritt so wie Sie ihn selbst gern erleben würden: faszinierend. Mit dem Master-Class-Kurs BRONZE legen Sie die Grundlage für Ihre besten Reden. \nLerninhalte: Grundstruktur: Wie baue ich eine Rede auf? \nEinleitung: Wie ziehe ich meine Zuhörer in den Bann. \nKörpersprache: Wie verführe ich mein Publikum mit meiner Körpersprache? \nLeistungen: 4 x 2 Stunden\, Praxisorientiertes Know-how\, mit Bonus-Option auf eine zweite Veranstaltung\, \nWeitere Termine: 9.\, 16. und 23. November 2022 von 10-15 Uhr
URL:https://redestolz.de/workshop/masterclass-gold-1-02-11-22/
LOCATION:Berenberg-Gossler-Haus\, Stadtteilkulturzentrum und Bürgerhaus Niendorf\, Niendorfer Kirchenweg 17\, Hamburg\, Hamburg\, 22459\, Deutschland
CATEGORIES:Workshops
END:VEVENT
END:VCALENDAR