BEGIN:VCALENDAR
VERSION:2.0
PRODID:-//Redestolz - ECPv6.15.17.1//NONSGML v1.0//EN
CALSCALE:GREGORIAN
METHOD:PUBLISH
X-WR-CALNAME:Redestolz
X-ORIGINAL-URL:https://redestolz.de
X-WR-CALDESC:Veranstaltungen für Redestolz
REFRESH-INTERVAL;VALUE=DURATION:PT1H
X-Robots-Tag:noindex
X-PUBLISHED-TTL:PT1H
BEGIN:VTIMEZONE
TZID:Europe/Berlin
BEGIN:DAYLIGHT
TZOFFSETFROM:+0100
TZOFFSETTO:+0200
TZNAME:CEST
DTSTART:20210328T010000
END:DAYLIGHT
BEGIN:STANDARD
TZOFFSETFROM:+0200
TZOFFSETTO:+0100
TZNAME:CET
DTSTART:20211031T010000
END:STANDARD
BEGIN:DAYLIGHT
TZOFFSETFROM:+0100
TZOFFSETTO:+0200
TZNAME:CEST
DTSTART:20220327T010000
END:DAYLIGHT
BEGIN:STANDARD
TZOFFSETFROM:+0200
TZOFFSETTO:+0100
TZNAME:CET
DTSTART:20221030T010000
END:STANDARD
BEGIN:DAYLIGHT
TZOFFSETFROM:+0100
TZOFFSETTO:+0200
TZNAME:CEST
DTSTART:20230326T010000
END:DAYLIGHT
BEGIN:STANDARD
TZOFFSETFROM:+0200
TZOFFSETTO:+0100
TZNAME:CET
DTSTART:20231029T010000
END:STANDARD
END:VTIMEZONE
BEGIN:VEVENT
DTSTART;TZID=Europe/Berlin:20220504T193000
DTEND;TZID=Europe/Berlin:20220504T213000
DTSTAMP:20260425T155409
CREATED:20211211T162611Z
LAST-MODIFIED:20220325T162004Z
UID:103-1651692600-1651699800@redestolz.de
SUMMARY:MASTERCLASS Bronze (3/4) 04.05.22
DESCRIPTION:
URL:https://redestolz.de/workshop/masterclass-bronze-4/
LOCATION:Berenberg-Gossler-Haus\, Stadtteilkulturzentrum und Bürgerhaus Niendorf\, Niendorfer Kirchenweg 17\, Hamburg\, Hamburg\, 22459\, Deutschland
CATEGORIES:Workshops
END:VEVENT
BEGIN:VEVENT
DTSTART;TZID=Europe/Berlin:20220511T193000
DTEND;TZID=Europe/Berlin:20220511T213000
DTSTAMP:20260425T155409
CREATED:20211211T162534Z
LAST-MODIFIED:20220325T161928Z
UID:101-1652297400-1652304600@redestolz.de
SUMMARY:MASTERCLASS Bronze (4/4) 11.05.22
DESCRIPTION:
URL:https://redestolz.de/workshop/masterclass-bronze-3/
LOCATION:Berenberg-Gossler-Haus\, Stadtteilkulturzentrum und Bürgerhaus Niendorf\, Niendorfer Kirchenweg 17\, Hamburg\, Hamburg\, 22459\, Deutschland
CATEGORIES:Workshops
END:VEVENT
BEGIN:VEVENT
DTSTART;TZID=Europe/Berlin:20220518T193000
DTEND;TZID=Europe/Berlin:20220518T223000
DTSTAMP:20260425T155409
CREATED:20220225T102902Z
LAST-MODIFIED:20220225T102902Z
UID:349-1652902200-1652913000@redestolz.de
SUMMARY:SMART STARTER Schnupperkurs 18.05.22
DESCRIPTION:Lernen Sie die Faszination gekonnter Reden kennen und gewinnen Sie einen ersten Einblick\, wie meine Workshops Sie persönlich weiterbringen und Ihnen Sicherheit geben\, dass Sie es schaffen. Weil Sie es können. Jede Wette!
URL:https://redestolz.de/workshop/smart-starter-schnupperkurs-18-05-22/
LOCATION:Berenberg-Gossler-Haus\, Stadtteilkulturzentrum und Bürgerhaus Niendorf\, Niendorfer Kirchenweg 17\, Hamburg\, Hamburg\, 22459\, Deutschland
CATEGORIES:Workshops
END:VEVENT
BEGIN:VEVENT
DTSTART;TZID=Europe/Berlin:20220525T193000
DTEND;TZID=Europe/Berlin:20220525T223000
DTSTAMP:20260425T155409
CREATED:20220302T182322Z
LAST-MODIFIED:20220302T182322Z
UID:350-1653507000-1653517800@redestolz.de
SUMMARY:SMART STARTER Schnupperkurs 25.05.22
DESCRIPTION:Lernen Sie die Faszination gekonnter Reden kennen und gewinnen Sie einen ersten Einblick\, wie meine Workshops Sie persönlich weiterbringen und Ihnen Sicherheit geben\, dass Sie es schaffen. Weil Sie es können. Jede Wette!
URL:https://redestolz.de/workshop/smart-starter-schnupperkurs-25-05-22/
LOCATION:Berenberg-Gossler-Haus\, Stadtteilkulturzentrum und Bürgerhaus Niendorf\, Niendorfer Kirchenweg 17\, Hamburg\, Hamburg\, 22459\, Deutschland
CATEGORIES:Workshops
END:VEVENT
BEGIN:VEVENT
DTSTART;TZID=Europe/Berlin:20220528T100000
DTEND;TZID=Europe/Berlin:20220528T150000
DTSTAMP:20260425T155409
CREATED:20220204T150409Z
LAST-MODIFIED:20220512T181755Z
UID:266-1653732000-1653750000@redestolz.de
SUMMARY:PowerPack-Weekend 28.05.22/29.05.22 (1/2) (ausverkauft)
DESCRIPTION:Das kennen Sie: Der Stress in unserem Alltag lauert gefühlt überall nur darauf\, über uns herzufallen. Am liebsten immer dann\, wenn man ihn am wenigstens gebrauchen kann und sich ein Termin ungefragt und vorlaut in Ihr Leben drängelt.  Noch bleibt Ihnen ein bisschen Zeit. Noch. Doch die Uhr läuft … Jetzt heißt es\, ganz schnell redefit zu werden\, um redestolz zu sein: Ich bin für Sie da!
URL:https://redestolz.de/workshop/powerpack-weekend-1-tag-28-05-22/
LOCATION:Berenberg-Gossler-Haus\, Stadtteilkulturzentrum und Bürgerhaus Niendorf\, Niendorfer Kirchenweg 17\, Hamburg\, Hamburg\, 22459\, Deutschland
CATEGORIES:Workshops
END:VEVENT
BEGIN:VEVENT
DTSTART;TZID=Europe/Berlin:20220529T100000
DTEND;TZID=Europe/Berlin:20220529T140000
DTSTAMP:20260425T155409
CREATED:20220128T145722Z
LAST-MODIFIED:20220512T181637Z
UID:263-1653818400-1653832800@redestolz.de
SUMMARY:PowerPack-Weekend 28./29.05.22 (2/2) (ausverkauft)
DESCRIPTION:Das kennen Sie: Der Stress in unserem Alltag lauert gefühlt überall nur darauf\, über uns herzufallen. Am liebsten immer dann\, wenn man ihn am wenigstens gebrauchen kann und sich ein Termin ungefragt und vorlaut in Ihr Leben drängelt.  Noch bleibt Ihnen ein bisschen Zeit. Noch. Doch die Uhr läuft … Jetzt heißt es\, ganz schnell redefit zu werden\, um redestolz zu sein: Ich bin für Sie da!
URL:https://redestolz.de/workshop/powerpack-weekend-8/
LOCATION:Berenberg-Gossler-Haus\, Stadtteilkulturzentrum und Bürgerhaus Niendorf\, Niendorfer Kirchenweg 17\, Hamburg\, Hamburg\, 22459\, Deutschland
CATEGORIES:Workshops
END:VEVENT
END:VCALENDAR