BEGIN:VCALENDAR
VERSION:2.0
PRODID:-//Redestolz - ECPv6.15.17.1//NONSGML v1.0//EN
CALSCALE:GREGORIAN
METHOD:PUBLISH
X-WR-CALNAME:Redestolz
X-ORIGINAL-URL:https://redestolz.de
X-WR-CALDESC:Veranstaltungen für Redestolz
REFRESH-INTERVAL;VALUE=DURATION:PT1H
X-Robots-Tag:noindex
X-PUBLISHED-TTL:PT1H
BEGIN:VTIMEZONE
TZID:Europe/Berlin
BEGIN:DAYLIGHT
TZOFFSETFROM:+0100
TZOFFSETTO:+0200
TZNAME:CEST
DTSTART:20240331T010000
END:DAYLIGHT
BEGIN:STANDARD
TZOFFSETFROM:+0200
TZOFFSETTO:+0100
TZNAME:CET
DTSTART:20241027T010000
END:STANDARD
BEGIN:DAYLIGHT
TZOFFSETFROM:+0100
TZOFFSETTO:+0200
TZNAME:CEST
DTSTART:20250330T010000
END:DAYLIGHT
BEGIN:STANDARD
TZOFFSETFROM:+0200
TZOFFSETTO:+0100
TZNAME:CET
DTSTART:20251026T010000
END:STANDARD
BEGIN:DAYLIGHT
TZOFFSETFROM:+0100
TZOFFSETTO:+0200
TZNAME:CEST
DTSTART:20260329T010000
END:DAYLIGHT
BEGIN:STANDARD
TZOFFSETFROM:+0200
TZOFFSETTO:+0100
TZNAME:CET
DTSTART:20261025T010000
END:STANDARD
END:VTIMEZONE
BEGIN:VEVENT
DTSTART;TZID=Europe/Berlin:20250719T090000
DTEND;TZID=Europe/Berlin:20250719T160000
DTSTAMP:20260421T231208
CREATED:20250101T131247Z
LAST-MODIFIED:20250707T112458Z
UID:1830-1752915600-1752940800@redestolz.de
SUMMARY:Inspiration für Ihre Rede: Wirkungsvoll schreiben! (VHS Pinneberg)
DESCRIPTION:In diesem Seminar lernen Sie\, wie Sie wirkungsvolle und überzeugende Reden schreiben können\, die Ihr Publikum fesseln und Ihre Botschaft klar vermitteln. Egal\, ob Sie für einen geschäftlichen Anlass\, eine ehrenamtliche Tätigkeit oder eine persönliche Veranstaltung sprechen möchten – die Fähigkeit\, eine gute Rede zu schreiben\, ist von unschätzbarem Wert. \nZiele des Seminars \n\nVerständnis der grundlegenden Struktur einer Rede\nEntwicklung von Techniken zur Ideenfindung und Themenwahl\nErlernen von Stilmitteln und rhetorischen Strategien\nPraktische Übungen zum Schreiben und Halten von Reden\nFeedback und Verbesserungsvorschläge für eigene Texte\nAnmeldung: https://www.vhs-pinneberg.de/kurssuche/kurs/Inspiration+fuer+Ihre+Rede+Wirkungsvoll+schreiben!/251-2252
URL:https://redestolz.de/workshop/inspiration-fuer-ihre-rede-wirkungsvoll-schreiben-vhs-pinneberg/
LOCATION:Volkshochschule Pinneberg  Am Rathaus 3\, 25421 Pinneberg\, Am Rathaus 3\, Pinneberg\, 25421\, Germany
CATEGORIES:Workshop
END:VEVENT
END:VCALENDAR