BEGIN:VCALENDAR
VERSION:2.0
PRODID:-//Redestolz - ECPv6.15.17.1//NONSGML v1.0//EN
CALSCALE:GREGORIAN
METHOD:PUBLISH
X-WR-CALNAME:Redestolz
X-ORIGINAL-URL:https://redestolz.de
X-WR-CALDESC:Veranstaltungen für Redestolz
REFRESH-INTERVAL;VALUE=DURATION:PT1H
X-Robots-Tag:noindex
X-PUBLISHED-TTL:PT1H
BEGIN:VTIMEZONE
TZID:Europe/Berlin
BEGIN:DAYLIGHT
TZOFFSETFROM:+0100
TZOFFSETTO:+0200
TZNAME:CEST
DTSTART:20220327T010000
END:DAYLIGHT
BEGIN:STANDARD
TZOFFSETFROM:+0200
TZOFFSETTO:+0100
TZNAME:CET
DTSTART:20221030T010000
END:STANDARD
BEGIN:DAYLIGHT
TZOFFSETFROM:+0100
TZOFFSETTO:+0200
TZNAME:CEST
DTSTART:20230326T010000
END:DAYLIGHT
BEGIN:STANDARD
TZOFFSETFROM:+0200
TZOFFSETTO:+0100
TZNAME:CET
DTSTART:20231029T010000
END:STANDARD
BEGIN:DAYLIGHT
TZOFFSETFROM:+0100
TZOFFSETTO:+0200
TZNAME:CEST
DTSTART:20240331T010000
END:DAYLIGHT
BEGIN:STANDARD
TZOFFSETFROM:+0200
TZOFFSETTO:+0100
TZNAME:CET
DTSTART:20241027T010000
END:STANDARD
END:VTIMEZONE
BEGIN:VEVENT
DTSTART;TZID=Europe/Berlin:20230927T170000
DTEND;TZID=Europe/Berlin:20230927T183000
DTSTAMP:20260423T102017
CREATED:20230706T081534Z
LAST-MODIFIED:20230706T082228Z
UID:1229-1695834000-1695839400@redestolz.de
SUMMARY:SmartStarter 2 Termine 27.09.23 2.Termin
DESCRIPTION:Lernen Sie die Faszination gekonnter Reden kennen und gewinnen Sie einen ersten Einblick\, wie meine Workshops Sie persönlich weiterbringen und Ihnen Sicherheit geben\, dass Sie es schaffen. Weil Sie es können. Jede Wette! \nDieser SmartStarter ist auf 2 Termine aufgeteilt. 2. Termin am 27.09.23
URL:https://redestolz.de/workshop/smartstarter-2-termine-27-09-23-2-termin/
LOCATION:Berenberg-Gossler-Haus\, Stadtteilkulturzentrum und Bürgerhaus Niendorf\, Niendorfer Kirchenweg 17\, Hamburg\, Hamburg\, 22459\, Deutschland
CATEGORIES:Workshops
END:VEVENT
BEGIN:VEVENT
DTSTART;TZID=Europe/Berlin:20230927T193000
DTEND;TZID=Europe/Berlin:20230927T213000
DTSTAMP:20260423T102017
CREATED:20230707T211104Z
LAST-MODIFIED:20230707T211104Z
UID:1271-1695843000-1695850200@redestolz.de
SUMMARY:MASTERCLASS Bronze (3. Termin) 27.09.23
DESCRIPTION:Werden Sie zum Hinhör-Magneten und machen Sie Ihren Bühnenauftritt so wie Sie ihn selbst gern erleben würden: faszinierend. Mit dem Master-Class-Kurs BRONZE legen Sie die Grundlage für Ihre besten Reden.
URL:https://redestolz.de/workshop/masterclass-bronze-3-termin-27-09-23/
LOCATION:Berenberg-Gossler-Haus\, Stadtteilkulturzentrum und Bürgerhaus Niendorf\, Niendorfer Kirchenweg 17\, Hamburg\, Hamburg\, 22459\, Deutschland
CATEGORIES:Workshops
END:VEVENT
BEGIN:VEVENT
DTSTART;TZID=Europe/Berlin:20230927T193000
DTEND;TZID=Europe/Berlin:20230927T223000
DTSTAMP:20260423T102017
CREATED:20230706T080144Z
LAST-MODIFIED:20230706T080144Z
UID:1219-1695843000-1695853800@redestolz.de
SUMMARY:SmartStarter 27.09.23
DESCRIPTION:Lernen Sie die Faszination gekonnter Reden kennen und gewinnen Sie einen ersten Einblick\, wie meine Workshops Sie persönlich weiterbringen und Ihnen Sicherheit geben\, dass Sie es schaffen. Weil Sie es können. Jede Wette!
URL:https://redestolz.de/workshop/smartstarter-27-09-23/
LOCATION:Berenberg-Gossler-Haus\, Stadtteilkulturzentrum und Bürgerhaus Niendorf\, Niendorfer Kirchenweg 17\, Hamburg\, Hamburg\, 22459\, Deutschland
CATEGORIES:Workshops
END:VEVENT
END:VCALENDAR