BEGIN:VCALENDAR
VERSION:2.0
PRODID:-//Redestolz - ECPv6.15.17.1//NONSGML v1.0//EN
CALSCALE:GREGORIAN
METHOD:PUBLISH
X-WR-CALNAME:Redestolz
X-ORIGINAL-URL:https://redestolz.de
X-WR-CALDESC:Veranstaltungen für Redestolz
REFRESH-INTERVAL;VALUE=DURATION:PT1H
X-Robots-Tag:noindex
X-PUBLISHED-TTL:PT1H
BEGIN:VTIMEZONE
TZID:Europe/Berlin
BEGIN:DAYLIGHT
TZOFFSETFROM:+0100
TZOFFSETTO:+0200
TZNAME:CEST
DTSTART:20220327T010000
END:DAYLIGHT
BEGIN:STANDARD
TZOFFSETFROM:+0200
TZOFFSETTO:+0100
TZNAME:CET
DTSTART:20221030T010000
END:STANDARD
BEGIN:DAYLIGHT
TZOFFSETFROM:+0100
TZOFFSETTO:+0200
TZNAME:CEST
DTSTART:20230326T010000
END:DAYLIGHT
BEGIN:STANDARD
TZOFFSETFROM:+0200
TZOFFSETTO:+0100
TZNAME:CET
DTSTART:20231029T010000
END:STANDARD
BEGIN:DAYLIGHT
TZOFFSETFROM:+0100
TZOFFSETTO:+0200
TZNAME:CEST
DTSTART:20240331T010000
END:DAYLIGHT
BEGIN:STANDARD
TZOFFSETFROM:+0200
TZOFFSETTO:+0100
TZNAME:CET
DTSTART:20241027T010000
END:STANDARD
END:VTIMEZONE
BEGIN:VEVENT
DTSTART;TZID=Europe/Berlin:20230419T193000
DTEND;TZID=Europe/Berlin:20230419T210000
DTSTAMP:20260423T165115
CREATED:20221117T175353Z
LAST-MODIFIED:20230324T163955Z
UID:624-1681932600-1681938000@redestolz.de
SUMMARY:Infoabend Online
DESCRIPTION:„Lass uns Reden!“ – Infoabend online \nEine Rede schreiben ist gar nicht so schwer! \nWelcher Workshop ist für mich der Richtige? \nEINFACH eine Rede halten Entdecken Sie\, was in Ihnen steckt – Sie können es! Lernen Sie die Faszination gekonnter Reden kennen und gewinnen Sie einen ersten Einblick\, wie meine Workshops Sie persönlich weiterbringen. Ich unterstütze Sie dabei\, ohne Skepsis und Lampenfieber vor anderen Menschen eine perfekte Rede zu halten. \nIn diesem Infoabend haben Sie die Möglichkeit\, Fragen zu stellen und mehr Informationen über die Workshops von Redestolz zu erhalten. Zudem gebe ich Ihnen gerne den einen oder anderen Tipp für Ihren nächsten Auftritt und das völlig kostenlos. Schnuppern Sie rein. \n 
URL:https://redestolz.de/workshop/infoabend-online-09-03-23/
LOCATION:Online
CATEGORIES:Infoabend
END:VEVENT
BEGIN:VEVENT
DTSTART;TZID=Europe/Berlin:20230419T193000
DTEND;TZID=Europe/Berlin:20230419T210000
DTSTAMP:20260423T165115
CREATED:20230329T044231Z
LAST-MODIFIED:20230329T044231Z
UID:681-1681932600-1681938000@redestolz.de
SUMMARY:Infoabend Online 19.04.23
DESCRIPTION:„Machen Sie von sich Reden“ – Infoabend online \nWelcher Workshop ist für mich der Richtige? \nEINFACH eine Rede halten Entdecken Sie\, was in Ihnen steckt – Sie können es! Lernen Sie die Faszination gekonnter Reden kennen und gewinnen Sie einen ersten Einblick\, wie meine Workshops Sie persönlich weiterbringen. Ich unterstütze Sie dabei\, ohne Skepsis und Lampenfieber vor anderen Menschen eine perfekte Rede zu halten. \nIn diesem Infoabend haben Sie die Möglichkeit\, Fragen zu stellen und mehr Informationen über die Workshops von Redestolz zu erhalten. Zudem gebe ich Ihnen gerne den einen oder anderen Tipp für Ihren nächsten Auftritt und das völlig kostenlos. Schnuppern Sie rein. \nAls Bonbon gibt es Informationen zum Redenschreiben.
URL:https://redestolz.de/workshop/infoabend-online-19-04-23/
LOCATION:Online
CATEGORIES:Infoabend
END:VEVENT
END:VCALENDAR