BEGIN:VCALENDAR
VERSION:2.0
PRODID:-//Redestolz - ECPv6.15.17.1//NONSGML v1.0//EN
CALSCALE:GREGORIAN
METHOD:PUBLISH
X-WR-CALNAME:Redestolz
X-ORIGINAL-URL:https://redestolz.de
X-WR-CALDESC:Veranstaltungen für Redestolz
REFRESH-INTERVAL;VALUE=DURATION:PT1H
X-Robots-Tag:noindex
X-PUBLISHED-TTL:PT1H
BEGIN:VTIMEZONE
TZID:Europe/Berlin
BEGIN:DAYLIGHT
TZOFFSETFROM:+0100
TZOFFSETTO:+0200
TZNAME:CEST
DTSTART:20210328T010000
END:DAYLIGHT
BEGIN:STANDARD
TZOFFSETFROM:+0200
TZOFFSETTO:+0100
TZNAME:CET
DTSTART:20211031T010000
END:STANDARD
BEGIN:DAYLIGHT
TZOFFSETFROM:+0100
TZOFFSETTO:+0200
TZNAME:CEST
DTSTART:20220327T010000
END:DAYLIGHT
BEGIN:STANDARD
TZOFFSETFROM:+0200
TZOFFSETTO:+0100
TZNAME:CET
DTSTART:20221030T010000
END:STANDARD
BEGIN:DAYLIGHT
TZOFFSETFROM:+0100
TZOFFSETTO:+0200
TZNAME:CEST
DTSTART:20230326T010000
END:DAYLIGHT
BEGIN:STANDARD
TZOFFSETFROM:+0200
TZOFFSETTO:+0100
TZNAME:CET
DTSTART:20231029T010000
END:STANDARD
END:VTIMEZONE
BEGIN:VEVENT
DTSTART;TZID=Europe/Berlin:20220730T100000
DTEND;TZID=Europe/Berlin:20220730T140000
DTSTAMP:20260425T143133
CREATED:20220128T145924Z
LAST-MODIFIED:20220301T121019Z
UID:270-1659175200-1659189600@redestolz.de
SUMMARY:PowerPack-Weekend 30/31.07.22 (1/2)
DESCRIPTION:Das kennen Sie: Der Stress in unserem Alltag lauert gefühlt überall nur darauf\, über uns herzufallen. Am liebsten immer dann\, wenn man ihn am wenigstens gebrauchen kann und sich ein Termin ungefragt und vorlaut in Ihr Leben drängelt.  Noch bleibt Ihnen ein bisschen Zeit. Noch. Doch die Uhr läuft … Jetzt heißt es\, ganz schnell redefit zu werden\, um redestolz zu sein: Ich bin für Sie da!
URL:https://redestolz.de/workshop/powerpack-weekend-10/
LOCATION:Berenberg-Gossler-Haus\, Stadtteilkulturzentrum und Bürgerhaus Niendorf\, Niendorfer Kirchenweg 17\, Hamburg\, Hamburg\, 22459\, Deutschland
CATEGORIES:Workshops
END:VEVENT
END:VCALENDAR